BEGIN:VCALENDAR
VERSION:2.0
PRODID:-//wp-events-plugin.com//5.99912//EN
TZID:Europe/Berlin
X-WR-TIMEZONE:Europe/Berlin
BEGIN:VEVENT
UID:0-291@sternenfels.albverein.eu
DTSTART;TZID=Europe/Berlin:20260501T110000
DTEND;TZID=Europe/Berlin:20260501T160000
DTSTAMP:20260419T180444Z
URL:https://sternenfels.albverein.eu/events/jugendwanderheim-fuellmenbache
 r-hof-tag-der-offenen-tuer/
SUMMARY:Jugendwanderheim Füllmenbacher Hof - Tag der offenen Tür
DESCRIPTION:Es hat sich mittlerweile herumgesprochen\, dass sich eine Wande
 rung oder eine Radtour durch den schönen Strombergwald am 1. Mai zum Juge
 ndwanderheim des Schwäbischen Albvereins lohnt. Auch in diesem Jahr öffn
 et das Jugendwanderheim Füllmenbacher Hof wieder seine Pforten. Ab 11.00 
 Uhr bewirtet der Schwäbische Albverein. Es gibt gegrillte Rote\, Luggele
 skäs-Brote (Brot mit schmackhaft angemachtem Quark)\, Waffeln\, Kuchen\, 
 Kaffee\, lokale Weine\, verschiedene Biere und alkoholfreie Getränke. Ein
  Grillfeuer unter einer Jurte lädt zum Verweilen ein. Gerne dürfen dort 
 selbst mitgebrachte Würste und Fleisch gegrillt werden. Das Jugendwanderh
 eim kann im Rahmen einer Führung besichtigt werden.
LOCATION:Jugendwanderheim Füllmenbacher Hof\, Füllmenbacher Hof\, Sternen
 fels\, Baden-Württemberg\, 75447\, Deutschland
GEO:49.02578161191799;8.881375773510735
X-APPLE-STRUCTURED-LOCATION;VALUE=URI;X-ADDRESS=Füllmenbacher Hof\, Sterne
 nfels\, Baden-Württemberg\, 75447\, Deutschland;X-APPLE-RADIUS=100;X-TITL
 E=Jugendwanderheim Füllmenbacher Hof:geo:49.02578161191799,8.881375773510
 735
END:VEVENT
BEGIN:VTIMEZONE
TZID:Europe/Berlin
X-LIC-LOCATION:Europe/Berlin
BEGIN:DAYLIGHT
DTSTART:20260329T030000
TZOFFSETFROM:+0100
TZOFFSETTO:+0200
TZNAME:CEST
END:DAYLIGHT
END:VTIMEZONE
END:VCALENDAR