BEGIN:VCALENDAR
VERSION:2.0
PRODID:-//wp-events-plugin.com//5.99912//EN
TZID:Europe/Berlin
X-WR-TIMEZONE:Europe/Berlin
BEGIN:VEVENT
UID:0-292@sternenfels.albverein.eu
DTSTART;TZID=Europe/Berlin:20260625T000000
DTEND;TZID=Europe/Berlin:20260715T000000
DTSTAMP:20260419T203438Z
URL:https://sternenfels.albverein.eu/events/stadtradeln-2026/
SUMMARY:Stadtradeln 2026
DESCRIPTION:25. Juni - 15. Juli: Stadtradeln im Team des Schwäbischen Albv
 ereins - sei dabei! Melde Dich jetzt schon an!\nUnsere Ortsgruppe ist auch
  in diesem Jahr wieder mit einem Team beim Stadtradeln am Start und unters
 tützt unter dem Dach der Gemeinde Sternenfels das Sammeln von Fahrrad-Kil
 ometern zum Schutz unseres Klimas. Jede und jeder\, egal ob Mitglied unser
 er Ortsgruppe oder nicht\, kann unser Team verstärken. Als anerkannter Na
 turschutzverband setzen wir uns seit jeher für die Belange von Natur und 
 Umwelt ein.\nUm was geht es beim Stadtradeln?\nZiel ist\, im Zeitraum der 
 Aktion vom 25. Juni - 15. Juli\, immer mal wieder das Auto stehen zu lasse
 n und im Alltag und in der Freizeit das Fahrrad zu nutzen. Es geht dabei d
 urchaus darum\, einfach mal über einen definierten Zeitraum bewusst auszu
 probieren\, wie sich das Fahrrad insbesondere im Alltag als Alternative zu
 m Auto nutzen lässt. Zur besseren Motivation kann in einem Team geradelt 
 werden. Nur in einem Team kann die tägliche Fahrleistung online\, entwede
 r über PC oder Smartphone-App gemeldet werden und der laufende Vergleich 
 mit den anderen Teams macht Spaß. Mit der App können sogar die gefahrene
 n Kilometer getrackt und nach Beenden der einzelnen Tour automatisch in di
 e Wertung übernommen werden.\n\nHier gehts zur Anmeldung in unserem Team!
 \n\nWir freuen uns auf das gemeinsame Kilometersammeln für einen guten Zw
 eck!
END:VEVENT
BEGIN:VTIMEZONE
TZID:Europe/Berlin
X-LIC-LOCATION:Europe/Berlin
BEGIN:DAYLIGHT
DTSTART:20260329T030000
TZOFFSETFROM:+0100
TZOFFSETTO:+0200
TZNAME:CEST
END:DAYLIGHT
END:VTIMEZONE
END:VCALENDAR